BEGIN:VCALENDAR
VERSION:2.0
PRODID:-//Inspire Centre - ECPv6.15.20//NONSGML v1.0//EN
CALSCALE:GREGORIAN
METHOD:PUBLISH
X-ORIGINAL-URL:https://inspirecentre.ca
X-WR-CALDESC:Events for Inspire Centre
REFRESH-INTERVAL;VALUE=DURATION:PT1H
X-Robots-Tag:noindex
X-PUBLISHED-TTL:PT1H
BEGIN:VTIMEZONE
TZID:America/Toronto
BEGIN:DAYLIGHT
TZOFFSETFROM:-0500
TZOFFSETTO:-0400
TZNAME:EDT
DTSTART:20240310T070000
END:DAYLIGHT
BEGIN:STANDARD
TZOFFSETFROM:-0400
TZOFFSETTO:-0500
TZNAME:EST
DTSTART:20241103T060000
END:STANDARD
BEGIN:DAYLIGHT
TZOFFSETFROM:-0500
TZOFFSETTO:-0400
TZNAME:EDT
DTSTART:20250309T070000
END:DAYLIGHT
BEGIN:STANDARD
TZOFFSETFROM:-0400
TZOFFSETTO:-0500
TZNAME:EST
DTSTART:20251102T060000
END:STANDARD
BEGIN:DAYLIGHT
TZOFFSETFROM:-0500
TZOFFSETTO:-0400
TZNAME:EDT
DTSTART:20260308T070000
END:DAYLIGHT
BEGIN:STANDARD
TZOFFSETFROM:-0400
TZOFFSETTO:-0500
TZNAME:EST
DTSTART:20261101T060000
END:STANDARD
END:VTIMEZONE
BEGIN:VEVENT
DTSTART;TZID=America/Toronto:20251030T153000
DTEND;TZID=America/Toronto:20251030T170000
DTSTAMP:20260424T172346
CREATED:20251010T200357Z
LAST-MODIFIED:20251010T200357Z
UID:10000148-1761838200-1761843600@inspirecentre.ca
SUMMARY:Halloween Celebration
DESCRIPTION:Come join us for a fun and inclusive Halloween celebration! Children are invited to dress up and explore each room of our accessible centre\, where Halloween-themed activities will be offered in a sensory-friendly environment. Drinks and treats will be available. \nAll children must be accompanied by a parent or guardian. This is a drop-in event\, but registration is required—please contact Natasha to reserve your spot. \nLocation: Timmins Inspire Centre
URL:https://inspirecentre.ca/event/halloween-celebration/
LOCATION:Inspire Centre – Timmins\, 733 Ross Avenue East\, Suite 1\, Timmins\, Ontario\, P4N 8S8\, Canada
ORGANIZER;CN="Inspire Centre":MAILTO:nouellette@inspirecentre.ca
END:VEVENT
END:VCALENDAR