BEGIN:VCALENDAR
VERSION:2.0
PRODID:-//Inspire Centre - ECPv6.15.20//NONSGML v1.0//EN
CALSCALE:GREGORIAN
METHOD:PUBLISH
X-WR-CALNAME:Inspire Centre
X-ORIGINAL-URL:https://inspirecentre.ca
X-WR-CALDESC:Events for Inspire Centre
REFRESH-INTERVAL;VALUE=DURATION:PT1H
X-Robots-Tag:noindex
X-PUBLISHED-TTL:PT1H
BEGIN:VTIMEZONE
TZID:America/Toronto
BEGIN:DAYLIGHT
TZOFFSETFROM:-0500
TZOFFSETTO:-0400
TZNAME:EDT
DTSTART:20240310T070000
END:DAYLIGHT
BEGIN:STANDARD
TZOFFSETFROM:-0400
TZOFFSETTO:-0500
TZNAME:EST
DTSTART:20241103T060000
END:STANDARD
BEGIN:DAYLIGHT
TZOFFSETFROM:-0500
TZOFFSETTO:-0400
TZNAME:EDT
DTSTART:20250309T070000
END:DAYLIGHT
BEGIN:STANDARD
TZOFFSETFROM:-0400
TZOFFSETTO:-0500
TZNAME:EST
DTSTART:20251102T060000
END:STANDARD
BEGIN:DAYLIGHT
TZOFFSETFROM:-0500
TZOFFSETTO:-0400
TZNAME:EDT
DTSTART:20260308T070000
END:DAYLIGHT
BEGIN:STANDARD
TZOFFSETFROM:-0400
TZOFFSETTO:-0500
TZNAME:EST
DTSTART:20261101T060000
END:STANDARD
END:VTIMEZONE
BEGIN:VEVENT
DTSTART;TZID=America/Toronto:20251106T163000
DTEND;TZID=America/Toronto:20251106T173000
DTSTAMP:20260424T154037
CREATED:20251023T150846Z
LAST-MODIFIED:20251023T150846Z
UID:10000150-1762446600-1762450200@inspirecentre.ca
SUMMARY:Table Talk: A Teen Social Group
DESCRIPTION:Table Talk helps teens build social connections and life skills in a relaxed setting. Participants prepare a simple meal together\, then share it while enjoying conversation and light games. \nThis month’s activity: Smoothy Bar. \nAges: 13+ \nRequirements: Ability to follow instructions and basic kitchen safety. Support persons welcome. \nLocation: Timmins Inspire Centre \n*Spots are limited; registration is required. Please contact Natasha Ouellette at 705-264-4700 ext 203 or email nouellette@inspirecentre.ca to reserve your spot*
URL:https://inspirecentre.ca/event/table-talk-a-teen-social-group-3/
LOCATION:Inspire Centre – Timmins\, 733 Ross Avenue East\, Suite 1\, Timmins\, Ontario\, P4N 8S8\, Canada
CATEGORIES:Table Talk
ORGANIZER;CN="Inspire Centre":MAILTO:nouellette@inspirecentre.ca
END:VEVENT
BEGIN:VEVENT
DTSTART;TZID=America/Toronto:20251111T160000
DTEND;TZID=America/Toronto:20251111T170000
DTSTAMP:20260424T154037
CREATED:20251023T152945Z
LAST-MODIFIED:20251023T152945Z
UID:10000152-1762876800-1762880400@inspirecentre.ca
SUMMARY:Learn to Leisure: Water Colour Painting
DESCRIPTION:Leisure activities help children build creativity\, confidence\, and healthy habits. Each month\, kids will explore a new leisure skill while developing social and group interaction skills. \nThis month’s focus: Learn the fundamentals of water colour painting. \nAges: 7 and up. Register by November 10th. \nRequirements: Ability to follow instructions and fine motor skills. \nLocation: Timmins Inspire Centre \n*Spots are limited; registration is required. To reserve your spot please contact Natasha Ouellette\, recreation therapist at 705-264-4700 ext 203 or email at nouellette@inspirecentre.ca*
URL:https://inspirecentre.ca/event/learn-to-leisure-water-colour-painting/
LOCATION:Inspire Centre – Timmins\, 733 Ross Avenue East\, Suite 1\, Timmins\, Ontario\, P4N 8S8\, Canada
CATEGORIES:Learn to Leisure
ORGANIZER;CN="Inspire Centre":MAILTO:nouellette@inspirecentre.ca
END:VEVENT
BEGIN:VEVENT
DTSTART;TZID=America/Toronto:20251129T110000
DTEND;TZID=America/Toronto:20251129T123000
DTSTAMP:20260424T154037
CREATED:20251106T153652Z
LAST-MODIFIED:20251128T170442Z
UID:10000154-1764414000-1764419400@inspirecentre.ca
SUMMARY:Jolly Maker's Market
DESCRIPTION:Join us for a festive morning of fun and creativity! Children will have the opportunity to craft a special gift for their grown-up\, while parents and guardians enjoy seasonal mocktails in a cozy atmosphere. Afterwards\, everyone can come together to indulge in hot chocolate and festive treats. \n*All children must be accompanied by an adult. Registration is required.\nTo register\, please call Natasha Ouellette\, Recreation Therapist at 705-264-4700 ext 203 or email nouellette@inspirecentre.ca* \nLocation: Kapuskasing Inspire Centre\, 6 Ash Street\nTime: 11am-1230pm
URL:https://inspirecentre.ca/event/jolly-makers-market/
LOCATION:Inspire Centre – Kapuskasing\, 6 Ash Street\, Kapuskasing\, ON\, PSN 2C8\, Canada
CATEGORIES:Tier 1 Holiday Event
ATTACH;FMTTYPE=image/png:https://inspirecentre.ca/wp-content/uploads/2025/11/English.png
ORGANIZER;CN="Inspire Centre":MAILTO:nouellette@inspirecentre.ca
END:VEVENT
END:VCALENDAR