BEGIN:VCALENDAR
VERSION:2.0
PRODID:-//Inspire Centre - ECPv6.15.20//NONSGML v1.0//EN
CALSCALE:GREGORIAN
METHOD:PUBLISH
X-WR-CALNAME:Inspire Centre
X-ORIGINAL-URL:https://inspirecentre.ca/fr/
X-WR-CALDESC:Évènements pour Inspire Centre
REFRESH-INTERVAL;VALUE=DURATION:PT1H
X-Robots-Tag:noindex
X-PUBLISHED-TTL:PT1H
BEGIN:VTIMEZONE
TZID:America/Toronto
BEGIN:DAYLIGHT
TZOFFSETFROM:-0500
TZOFFSETTO:-0400
TZNAME:EDT
DTSTART:20240310T070000
END:DAYLIGHT
BEGIN:STANDARD
TZOFFSETFROM:-0400
TZOFFSETTO:-0500
TZNAME:EST
DTSTART:20241103T060000
END:STANDARD
BEGIN:DAYLIGHT
TZOFFSETFROM:-0500
TZOFFSETTO:-0400
TZNAME:EDT
DTSTART:20250309T070000
END:DAYLIGHT
BEGIN:STANDARD
TZOFFSETFROM:-0400
TZOFFSETTO:-0500
TZNAME:EST
DTSTART:20251102T060000
END:STANDARD
BEGIN:DAYLIGHT
TZOFFSETFROM:-0500
TZOFFSETTO:-0400
TZNAME:EDT
DTSTART:20260308T070000
END:DAYLIGHT
BEGIN:STANDARD
TZOFFSETFROM:-0400
TZOFFSETTO:-0500
TZNAME:EST
DTSTART:20261101T060000
END:STANDARD
END:VTIMEZONE
BEGIN:VEVENT
DTSTART;TZID=America/Toronto:20251106T163000
DTEND;TZID=America/Toronto:20251106T173000
DTSTAMP:20260424T183615
CREATED:20251023T150846Z
LAST-MODIFIED:20251023T150846Z
UID:10000151-1762446600-1762450200@inspirecentre.ca
SUMMARY:Conversations autour d’une table : Groupe social pour adolescents
DESCRIPTION:Les discussions autour d’une table aident les adolescents à créer des liens sociaux et des compétences de vie dans un cadre détendu. Ensemble\, les participants préparent et mangent un repas simple\, dans un cadre de conversation et de jeux simples.  \nActivité du mois : Bar à smoothies \nAges: 13+ \nRequirements: Ability to follow instructions and basic kitchen safety. Support persons welcome.  \nLieu : Centre Inspire de Timmins \n*Les places sont limitées\, l’inscription est obligatoire. Veuillez contacter Natasha Ouellette au 705-264-4700 poste 203 ou par courriel à nouellette@inspirecentre.ca pour réserver votre place.*
URL:https://inspirecentre.ca/fr/evenements/conversations-autour-dune-table-groupe-social-pour-adolescents-3/
LOCATION:Inspire Centre – Timmins\, 733 Ross Avenue East\, Suite 1\, Timmins\, Ontario\, P4N 8S8\, Canada
CATEGORIES:Table Talk
ORGANIZER;CN="Inspire Centre":MAILTO:info@inspirecentre.ca
END:VEVENT
BEGIN:VEVENT
DTSTART;TZID=America/Toronto:20251111T160000
DTEND;TZID=America/Toronto:20251111T170000
DTSTAMP:20260424T183615
CREATED:20251023T152945Z
LAST-MODIFIED:20251023T152945Z
UID:10000153-1762876800-1762880400@inspirecentre.ca
SUMMARY:Apprendre pour le plaisir : Peinture à l’aquarelle
DESCRIPTION:Les loisirs et les activités aident les enfants à développer leur créativité\, leur confiance en soi et de saines habitudes. Chaque mois\, les enfants découvriront une nouvelle compétence de loisir tout en développant leurs aptitudes sociales et leur capacité à interagir en groupe.  \nThème du mois : Apprendre les bases de la peinture à l’aquarelle \nÂges : 7 ans et plus Inscription avant le 10 novembre. \nExigences : Capacité à suivre des instructions et habiletés motrices fines. \nLieu : Centre Inspire de Timmins \n*Les places sont limitées\, l’inscription est obligatoire. Pour réserver votre place\, veuillez contacter Natasha Ouellette\, thérapeute en loisirs\, au 705-264-4700 poste 203 ou par courriel à nouellette@inspirecentre.ca.*
URL:https://inspirecentre.ca/fr/evenements/apprendre-pour-le-plaisir-peinture-a-laquarelle/
LOCATION:Inspire Centre – Timmins\, 733 Ross Avenue East\, Suite 1\, Timmins\, Ontario\, P4N 8S8\, Canada
CATEGORIES:Learn to Leisure
ORGANIZER;CN="Inspire Centre":MAILTO:info@inspirecentre.ca
END:VEVENT
BEGIN:VEVENT
DTSTART;TZID=America/Toronto:20251129T110000
DTEND;TZID=America/Toronto:20251129T123000
DTSTAMP:20260424T183615
CREATED:20251106T153652Z
LAST-MODIFIED:20260126T200026Z
UID:10000155-1764414000-1764419400@inspirecentre.ca
SUMMARY:Marché des Créateurs Joyeux
DESCRIPTION:Joignez-vous à nous pour une matinée festive remplie de plaisir et de créativité ! Les enfants auront l’occasion de fabriquer un cadeau spécial pour leur adulte\, pendant que les parents et les tuteurs savourent des mocktails de saison dans une ambiance chaleureuse. Ensuite\, tout le monde pourra se retrouver pour déguster un chocolat chaud et des gâteries festives.   \n*Tous les enfants doivent être accompagnés d’un adulte. L’inscription est obligatoire. Pour vous inscrire\, veuillez appeler Natasha Ouellette\, thérapeute en loisirs\, au 705-264-4700 poste 203 ou envoyer un courriel à nouellette@inspirecentre.ca*  \nLieu : Centre Inspire de Kapuskasing\, 6 rue Ash\nHeure : 11 h à 12 h 30
URL:https://inspirecentre.ca/fr/evenements/marche-des-createurs-joyeux/
LOCATION:Inspire Centre – Kapuskasing\, 6 Ash Street\, Kapuskasing\, ON\, PSN 2C8\, Canada
CATEGORIES:Tier 1 Holiday Event
ATTACH;FMTTYPE=image/png:https://inspirecentre.ca/wp-content/uploads/2025/11/English.png
ORGANIZER;CN="Inspire Centre":MAILTO:info@inspirecentre.ca
END:VEVENT
END:VCALENDAR