BEGIN:VCALENDAR
VERSION:2.0
PRODID:-//Inspire Centre - ECPv6.15.20//NONSGML v1.0//EN
CALSCALE:GREGORIAN
METHOD:PUBLISH
X-ORIGINAL-URL:https://inspirecentre.ca
X-WR-CALDESC:Events for Inspire Centre
REFRESH-INTERVAL;VALUE=DURATION:PT1H
X-Robots-Tag:noindex
X-PUBLISHED-TTL:PT1H
BEGIN:VTIMEZONE
TZID:America/Toronto
BEGIN:DAYLIGHT
TZOFFSETFROM:-0500
TZOFFSETTO:-0400
TZNAME:EDT
DTSTART:20240310T070000
END:DAYLIGHT
BEGIN:STANDARD
TZOFFSETFROM:-0400
TZOFFSETTO:-0500
TZNAME:EST
DTSTART:20241103T060000
END:STANDARD
BEGIN:DAYLIGHT
TZOFFSETFROM:-0500
TZOFFSETTO:-0400
TZNAME:EDT
DTSTART:20250309T070000
END:DAYLIGHT
BEGIN:STANDARD
TZOFFSETFROM:-0400
TZOFFSETTO:-0500
TZNAME:EST
DTSTART:20251102T060000
END:STANDARD
BEGIN:DAYLIGHT
TZOFFSETFROM:-0500
TZOFFSETTO:-0400
TZNAME:EDT
DTSTART:20260308T070000
END:DAYLIGHT
BEGIN:STANDARD
TZOFFSETFROM:-0400
TZOFFSETTO:-0500
TZNAME:EST
DTSTART:20261101T060000
END:STANDARD
BEGIN:DAYLIGHT
TZOFFSETFROM:-0500
TZOFFSETTO:-0400
TZNAME:EDT
DTSTART:20270314T070000
END:DAYLIGHT
BEGIN:STANDARD
TZOFFSETFROM:-0400
TZOFFSETTO:-0500
TZNAME:EST
DTSTART:20271107T060000
END:STANDARD
END:VTIMEZONE
BEGIN:VEVENT
DTSTART;TZID=America/Toronto:20260222T110000
DTEND;TZID=America/Toronto:20260222T114500
DTSTAMP:20260424T140026
CREATED:20260108T142455Z
LAST-MODIFIED:20260108T142455Z
UID:10000167-1771758000-1771760700@inspirecentre.ca
SUMMARY:TFA Recreation Group (6 & under)
DESCRIPTION:Recreation Groups At Timmins Fitness Alternatives \nInspire Centre has partnered with Timmins Fitness Alternatives to bring inclusive recreation groups to the children and youth of Timmins. TFA offers a wide variety of equipment\, rigging and tools to allow a very unique mix of adaptative and creative recreation programming. \n*These sessions are free to the public* \nLocation: 303 Cameron Street South \nTo register please visit www.timminsfitnessalternatives.ca
URL:https://inspirecentre.ca/event/tfa-recreation-group-6-under/2026-02-22/
LOCATION:Timmins Fitness Alternatives\, 303 Cameron St S\, Timmins\, Ontario\, P4N 2W6\, Canada
ATTACH;FMTTYPE=image/png:https://inspirecentre.ca/wp-content/uploads/2026/01/1.png
ORGANIZER;CN="Natasha Ouellette":MAILTO:nouellette@inspirecentre.ca
END:VEVENT
BEGIN:VEVENT
DTSTART;TZID=America/Toronto:20260218T193000
DTEND;TZID=America/Toronto:20260218T201500
DTSTAMP:20260424T140026
CREATED:20260108T144549Z
LAST-MODIFIED:20260108T144549Z
UID:10000196-1771443000-1771445700@inspirecentre.ca
SUMMARY:TFA Recreation Group (7 & up)
DESCRIPTION:Timmins Fitness Alternatives Recreation Groups \nInspire Centre has partnered with Timmins Fitness Alternatives to bring inclusive recreation groups to the youth of Timmins. TFA offers a wide variety of equipment\, rigging and tools to allow a very unique mix of adaptative and creative recreation programming. \n*These sessions are free to the public* \nLocation: 303 Cameron Street South \nTo register please visit www.timminsfitnessalternatives.ca
URL:https://inspirecentre.ca/event/tfa-recreation-group-7-up/2026-02-18/
LOCATION:Timmins Fitness Alternatives\, 303 Cameron St S\, Timmins\, Ontario\, P4N 2W6\, Canada
ATTACH;FMTTYPE=image/png:https://inspirecentre.ca/wp-content/uploads/2026/01/3.png
ORGANIZER;CN="Natasha Ouellette":MAILTO:nouellette@inspirecentre.ca
END:VEVENT
BEGIN:VEVENT
DTSTART;TZID=America/Toronto:20260215T110000
DTEND;TZID=America/Toronto:20260215T114500
DTSTAMP:20260424T140026
CREATED:20260108T142455Z
LAST-MODIFIED:20260108T142455Z
UID:10000166-1771153200-1771155900@inspirecentre.ca
SUMMARY:TFA Recreation Group (6 & under)
DESCRIPTION:Recreation Groups At Timmins Fitness Alternatives \nInspire Centre has partnered with Timmins Fitness Alternatives to bring inclusive recreation groups to the children and youth of Timmins. TFA offers a wide variety of equipment\, rigging and tools to allow a very unique mix of adaptative and creative recreation programming. \n*These sessions are free to the public* \nLocation: 303 Cameron Street South \nTo register please visit www.timminsfitnessalternatives.ca
URL:https://inspirecentre.ca/event/tfa-recreation-group-6-under/2026-02-15/
LOCATION:Timmins Fitness Alternatives\, 303 Cameron St S\, Timmins\, Ontario\, P4N 2W6\, Canada
ATTACH;FMTTYPE=image/png:https://inspirecentre.ca/wp-content/uploads/2026/01/1.png
ORGANIZER;CN="Natasha Ouellette":MAILTO:nouellette@inspirecentre.ca
END:VEVENT
BEGIN:VEVENT
DTSTART;TZID=America/Toronto:20260211T193000
DTEND;TZID=America/Toronto:20260211T201500
DTSTAMP:20260424T140026
CREATED:20260108T144549Z
LAST-MODIFIED:20260108T144549Z
UID:10000195-1770838200-1770840900@inspirecentre.ca
SUMMARY:TFA Recreation Group (7 & up)
DESCRIPTION:Timmins Fitness Alternatives Recreation Groups \nInspire Centre has partnered with Timmins Fitness Alternatives to bring inclusive recreation groups to the youth of Timmins. TFA offers a wide variety of equipment\, rigging and tools to allow a very unique mix of adaptative and creative recreation programming. \n*These sessions are free to the public* \nLocation: 303 Cameron Street South \nTo register please visit www.timminsfitnessalternatives.ca
URL:https://inspirecentre.ca/event/tfa-recreation-group-7-up/2026-02-11/
LOCATION:Timmins Fitness Alternatives\, 303 Cameron St S\, Timmins\, Ontario\, P4N 2W6\, Canada
ATTACH;FMTTYPE=image/png:https://inspirecentre.ca/wp-content/uploads/2026/01/3.png
ORGANIZER;CN="Natasha Ouellette":MAILTO:nouellette@inspirecentre.ca
END:VEVENT
BEGIN:VEVENT
DTSTART;TZID=America/Toronto:20260208T110000
DTEND;TZID=America/Toronto:20260208T114500
DTSTAMP:20260424T140026
CREATED:20260108T142455Z
LAST-MODIFIED:20260108T142455Z
UID:10000165-1770548400-1770551100@inspirecentre.ca
SUMMARY:TFA Recreation Group (6 & under)
DESCRIPTION:Recreation Groups At Timmins Fitness Alternatives \nInspire Centre has partnered with Timmins Fitness Alternatives to bring inclusive recreation groups to the children and youth of Timmins. TFA offers a wide variety of equipment\, rigging and tools to allow a very unique mix of adaptative and creative recreation programming. \n*These sessions are free to the public* \nLocation: 303 Cameron Street South \nTo register please visit www.timminsfitnessalternatives.ca
URL:https://inspirecentre.ca/event/tfa-recreation-group-6-under/2026-02-08/
LOCATION:Timmins Fitness Alternatives\, 303 Cameron St S\, Timmins\, Ontario\, P4N 2W6\, Canada
ATTACH;FMTTYPE=image/png:https://inspirecentre.ca/wp-content/uploads/2026/01/1.png
ORGANIZER;CN="Natasha Ouellette":MAILTO:nouellette@inspirecentre.ca
END:VEVENT
BEGIN:VEVENT
DTSTART;TZID=America/Toronto:20260204T193000
DTEND;TZID=America/Toronto:20260204T201500
DTSTAMP:20260424T140026
CREATED:20260108T144549Z
LAST-MODIFIED:20260108T144549Z
UID:10000194-1770233400-1770236100@inspirecentre.ca
SUMMARY:TFA Recreation Group (7 & up)
DESCRIPTION:Timmins Fitness Alternatives Recreation Groups \nInspire Centre has partnered with Timmins Fitness Alternatives to bring inclusive recreation groups to the youth of Timmins. TFA offers a wide variety of equipment\, rigging and tools to allow a very unique mix of adaptative and creative recreation programming. \n*These sessions are free to the public* \nLocation: 303 Cameron Street South \nTo register please visit www.timminsfitnessalternatives.ca
URL:https://inspirecentre.ca/event/tfa-recreation-group-7-up/2026-02-04/
LOCATION:Timmins Fitness Alternatives\, 303 Cameron St S\, Timmins\, Ontario\, P4N 2W6\, Canada
ATTACH;FMTTYPE=image/png:https://inspirecentre.ca/wp-content/uploads/2026/01/3.png
ORGANIZER;CN="Natasha Ouellette":MAILTO:nouellette@inspirecentre.ca
END:VEVENT
BEGIN:VEVENT
DTSTART;TZID=America/Toronto:20260201T110000
DTEND;TZID=America/Toronto:20260201T114500
DTSTAMP:20260424T140026
CREATED:20260108T142455Z
LAST-MODIFIED:20260108T142455Z
UID:10000164-1769943600-1769946300@inspirecentre.ca
SUMMARY:TFA Recreation Group (6 & under)
DESCRIPTION:Recreation Groups At Timmins Fitness Alternatives \nInspire Centre has partnered with Timmins Fitness Alternatives to bring inclusive recreation groups to the children and youth of Timmins. TFA offers a wide variety of equipment\, rigging and tools to allow a very unique mix of adaptative and creative recreation programming. \n*These sessions are free to the public* \nLocation: 303 Cameron Street South \nTo register please visit www.timminsfitnessalternatives.ca
URL:https://inspirecentre.ca/event/tfa-recreation-group-6-under/2026-02-01/
LOCATION:Timmins Fitness Alternatives\, 303 Cameron St S\, Timmins\, Ontario\, P4N 2W6\, Canada
ATTACH;FMTTYPE=image/png:https://inspirecentre.ca/wp-content/uploads/2026/01/1.png
ORGANIZER;CN="Natasha Ouellette":MAILTO:nouellette@inspirecentre.ca
END:VEVENT
BEGIN:VEVENT
DTSTART;TZID=America/Toronto:20260128T193000
DTEND;TZID=America/Toronto:20260128T201500
DTSTAMP:20260424T140026
CREATED:20260108T144549Z
LAST-MODIFIED:20260108T144549Z
UID:10000193-1769628600-1769631300@inspirecentre.ca
SUMMARY:TFA Recreation Group (7 & up)
DESCRIPTION:Timmins Fitness Alternatives Recreation Groups \nInspire Centre has partnered with Timmins Fitness Alternatives to bring inclusive recreation groups to the youth of Timmins. TFA offers a wide variety of equipment\, rigging and tools to allow a very unique mix of adaptative and creative recreation programming. \n*These sessions are free to the public* \nLocation: 303 Cameron Street South \nTo register please visit www.timminsfitnessalternatives.ca
URL:https://inspirecentre.ca/event/tfa-recreation-group-7-up/2026-01-28/
LOCATION:Timmins Fitness Alternatives\, 303 Cameron St S\, Timmins\, Ontario\, P4N 2W6\, Canada
ATTACH;FMTTYPE=image/png:https://inspirecentre.ca/wp-content/uploads/2026/01/3.png
ORGANIZER;CN="Natasha Ouellette":MAILTO:nouellette@inspirecentre.ca
END:VEVENT
BEGIN:VEVENT
DTSTART;TZID=America/Toronto:20260125T110000
DTEND;TZID=America/Toronto:20260125T114500
DTSTAMP:20260424T140027
CREATED:20260108T142455Z
LAST-MODIFIED:20260108T142455Z
UID:10000163-1769338800-1769341500@inspirecentre.ca
SUMMARY:TFA Recreation Group (6 & under)
DESCRIPTION:Recreation Groups At Timmins Fitness Alternatives \nInspire Centre has partnered with Timmins Fitness Alternatives to bring inclusive recreation groups to the children and youth of Timmins. TFA offers a wide variety of equipment\, rigging and tools to allow a very unique mix of adaptative and creative recreation programming. \n*These sessions are free to the public* \nLocation: 303 Cameron Street South \nTo register please visit www.timminsfitnessalternatives.ca
URL:https://inspirecentre.ca/event/tfa-recreation-group-6-under/2026-01-25/
LOCATION:Timmins Fitness Alternatives\, 303 Cameron St S\, Timmins\, Ontario\, P4N 2W6\, Canada
ATTACH;FMTTYPE=image/png:https://inspirecentre.ca/wp-content/uploads/2026/01/1.png
ORGANIZER;CN="Natasha Ouellette":MAILTO:nouellette@inspirecentre.ca
END:VEVENT
BEGIN:VEVENT
DTSTART;TZID=America/Toronto:20260121T193000
DTEND;TZID=America/Toronto:20260121T201500
DTSTAMP:20260424T140027
CREATED:20260108T144549Z
LAST-MODIFIED:20260108T144549Z
UID:10000192-1769023800-1769026500@inspirecentre.ca
SUMMARY:TFA Recreation Group (7 & up)
DESCRIPTION:Timmins Fitness Alternatives Recreation Groups \nInspire Centre has partnered with Timmins Fitness Alternatives to bring inclusive recreation groups to the youth of Timmins. TFA offers a wide variety of equipment\, rigging and tools to allow a very unique mix of adaptative and creative recreation programming. \n*These sessions are free to the public* \nLocation: 303 Cameron Street South \nTo register please visit www.timminsfitnessalternatives.ca
URL:https://inspirecentre.ca/event/tfa-recreation-group-7-up/2026-01-21/
LOCATION:Timmins Fitness Alternatives\, 303 Cameron St S\, Timmins\, Ontario\, P4N 2W6\, Canada
ATTACH;FMTTYPE=image/png:https://inspirecentre.ca/wp-content/uploads/2026/01/3.png
ORGANIZER;CN="Natasha Ouellette":MAILTO:nouellette@inspirecentre.ca
END:VEVENT
BEGIN:VEVENT
DTSTART;TZID=America/Toronto:20260118T110000
DTEND;TZID=America/Toronto:20260118T114500
DTSTAMP:20260424T140027
CREATED:20260108T142455Z
LAST-MODIFIED:20260108T142455Z
UID:10000162-1768734000-1768736700@inspirecentre.ca
SUMMARY:TFA Recreation Group (6 & under)
DESCRIPTION:Recreation Groups At Timmins Fitness Alternatives \nInspire Centre has partnered with Timmins Fitness Alternatives to bring inclusive recreation groups to the children and youth of Timmins. TFA offers a wide variety of equipment\, rigging and tools to allow a very unique mix of adaptative and creative recreation programming. \n*These sessions are free to the public* \nLocation: 303 Cameron Street South \nTo register please visit www.timminsfitnessalternatives.ca
URL:https://inspirecentre.ca/event/tfa-recreation-group-6-under/2026-01-18/
LOCATION:Timmins Fitness Alternatives\, 303 Cameron St S\, Timmins\, Ontario\, P4N 2W6\, Canada
ATTACH;FMTTYPE=image/png:https://inspirecentre.ca/wp-content/uploads/2026/01/1.png
ORGANIZER;CN="Natasha Ouellette":MAILTO:nouellette@inspirecentre.ca
END:VEVENT
BEGIN:VEVENT
DTSTART;TZID=America/Toronto:20251222T153000
DTEND;TZID=America/Toronto:20251222T161500
DTSTAMP:20260424T140027
CREATED:20251127T205329Z
LAST-MODIFIED:20251127T205329Z
UID:10000160-1766417400-1766420100@inspirecentre.ca
SUMMARY:Learn to Leisure: Oven bake clay ornaments
DESCRIPTION:Learn to Leisure: Oven Bake Clay Ornaments \nLeisure activities help children build creativity\, confidence\, and healthy habits. Each month\, kids will explore a new leisure skill while developing social and group interaction skills. \nThis month’s focus: Mold your own oven bake clay ornament\nAges: 7 and up. Register by December 18th \nRequirements: Ability to follow instructions and fine motor skills. \nLocation: Timmins Inspire Centre \nSpots are limited. Registration is required. Please register by December 18th to secure your spot. Call Natasha Ouellette\, Recreation Therapist at 705-264-4700 ext 203 or email nouellette@inspirecentre.ca .
URL:https://inspirecentre.ca/event/learn-to-leisure-oven-bake-clay-ornaments/
LOCATION:Inspire Centre – Timmins\, 733 Ross Avenue East\, Suite 1\, Timmins\, Ontario\, P4N 8S8\, Canada
CATEGORIES:Learn to Leisure
ORGANIZER;CN="Natasha Ouellette":MAILTO:nouellette@inspirecentre.ca
END:VEVENT
BEGIN:VEVENT
DTSTART;TZID=America/Toronto:20251216T163000
DTEND;TZID=America/Toronto:20251216T173000
DTSTAMP:20260424T140027
CREATED:20251127T204557Z
LAST-MODIFIED:20251127T204558Z
UID:10000158-1765902600-1765906200@inspirecentre.ca
SUMMARY:Table Talk: A Teen Social Group
DESCRIPTION:Table Talk: A teen social \nTable Talk helps teens build social connections and life skills in a relaxed setting. Participants prepare a simple meal together\, then share it while enjoying conversation and light games. \nThis month’s activity: Make your own festive cookies\nAges: 13+ \nRequirements: Ability to follow instructions and basic kitchen safety. Support persons welcome. \nLocation: Timmins Inspire Centre \nSpots are limited. Registration is required. Please register by December 12th by calling Natasha Ouellette\, Recreation Therapist at 705-264-4700 ext 203 or email nouellette@inspirecentre.ca
URL:https://inspirecentre.ca/event/table-talk-a-teen-social-group-4/
LOCATION:Inspire Centre – Timmins\, 733 Ross Avenue East\, Suite 1\, Timmins\, Ontario\, P4N 8S8\, Canada
CATEGORIES:Table Talk
ORGANIZER;CN="Natasha Ouellette":MAILTO:nouellette@inspirecentre.ca
END:VEVENT
END:VCALENDAR